BEGIN:VCALENDAR
VERSION:2.0
PRODID:-//APA //NONSGML Events //EN
CALSCALE:GREGORIAN
X-WR-CALNAME:APA
BEGIN:VEVENT
CREATED:20210317T133355Z
UID:185357
DTEND;VALUE=DATE:20210520T190000
DTSTART;VALUE=DATE:20210520T190000
DTSTAMP:20260423T070755Z
LOCATION:Zoom
DESCRIPTION:
SUMMARY:Zuhören statt überhören: Podcasts auf dem Vormarsch - Podcasts klettern in der Prioritätenliste vieler Menschen immer weiter nach oben und erfahren gerade einen Boom.
ORGANIZER:APA
URL;VALUE=URI:https://apa.at/event/apa-comm-talk-am-20-mai-2021/
TRANSP:OPAQUE
BEGIN:VALARM
ACTION:DISPLAY
TRIGGER;VALUE=DATE-TIME:20260423T090755Z
DESCRIPTION:Reminder for Zuhören statt überhören: Podcasts auf dem Vormarsch
END:VALARM
END:VEVENT
END:VCALENDAR
